BEGIN:VCALENDAR
VERSION:2.0
CALSCALE:GREGORIAN
TZID:Europe/Berlin
X-LIC-LOCATION:Europe/Berlin
PRODID:https://solid-rdeck.de
METHOD:PUBLISH
BEGIN:VEVENT
DTSTART:20260512T183000
DTEND:20260512T210000
LOCATION:, Schleifmühlenstraße 20, 234768 Rendsburg
ORGANISATOR:Solid Basisgruppe RD-Eck
DTSTAMP:20260420T170744
SUMMARY:Treffen der Basisgruppe RD-Eck
DESCRIPTION:
UID:20260420T170744-20260512T183000-20260512T210000
END:VEVENT
END:VCALENDAR